Workbook

Sheet 調査書
S1: 1 | T1: 2 | U1: 3 | V1: 4 | W1: 5 | X1: 6 | Y1: 7 | Z1: 8 | AA1: 9 | AB1: 10 | AC1: 11 | AD1: 12
S2: 4 Apr
S3: 7 Jul
A4: ■申請者情報 APPLICANT INFORMATION | S4: 10 Oct
A5: 入学予定 Application for
E6: 年 (Y) | H6: 月 (M) | I6: 入学を希望します
A7: 国籍 Nationality | H7: 出生地 Birth Place
A8: 英字氏名 Name | K8: 漢字名 Name in Kanji
A9: 現住所 Current Home Address
A10: 戸籍住所 Home address(Officially registered)
A11: 生年月日 Date of Birth | G11: 年 | I11: 月 | K11: 日 | L11: 性別 Sex | S11: =DATE(E11,H11,J11) -> #NUM!
G12: (Y) | I12: (M) | K12: (D) | S12: 男 Male | T12: 無 Single | U12: 無 No
A13: 旅券番号 Passport No. | I13: 旅券有効期限 Expiry date | N13: 年 (Y) | P13: 月 (M) | R13: 日 (D) | S13: 女 Female | T13: 有 Married | U13: 有 Yes
A14: 学歴 | G14: 年 | I14: 月
A15: Academic Record | G15: (Y) | I15: (M) | S15: 中専 | T15: 卒業 graduated
A16: 職歴 Work Experience | B16: 会社名 | H16: 期間 | K16: 年 | M16: 月 | N16: ~ | P16: 年 | R16: 月 | S16: 高校 High school | T16: 卒業予定 Expected to graduate
B17: Name of company | H17: Period | K17: (Y) | M17: (M) | P17: (Y) | R17: (M) | S17: 大専 Vocational School | T17: 退学予定 Planning to leave
B18: 会社名 | H18: 期間 | K18: 年 | M18: 月 | N18: ~ | P18: 年 | R18: 月 | S18: 大学 University
B19: Name of company | H19: Period | K19: (Y) | M19: (M) | P19: (Y) | R19: (M) | S19: 大学院 Master Degree | U19: 留学にあたり考慮が必要な病気・既往歴有 There are illnesses or medical history that require consideration for studying abroad.
A20: 病歴 | M20: 病名 | U20: 特別な考慮が必要な病気はありません。 There are no illnesses that require special consideration.
A21: Medical History | M21: Illness
A22: 申請歴 | E22: ビザの種類 Type of Visa | K22: 申請結果 Result of application | S22: 留学 Student | T22: 交付 COE issued
A23: Past application for Visa | E23: 申請提出先学校・会社名 Name of school or company applied before | I23: ： | S23: 技能実習 Trainee | T23: 不交付 COE/VISA Rejected
A24: 在日親族 | E24: 続柄 Relation | I24: 氏名 Name | S24: 就労 Working | T24: 取下げ Cancelled
S25: その他 others | T25: 大使館拒否 Rejected by Embassy
A26: Family and Relatives in Japan | E26: 勤務先名称 | L26: 在留カード 番号
E27: Name of Company/School | L27: Zairyu card No.
S28: 無(None),日本語能力試験(JLPT),ＢＪＴビジネス日本語能力テスト, J-Test, Nat-Test,ＳＴＢＪ標準ビジネス日本語テスト,TOPJ実用日本語運用能力試験,Ｊ-cert生活・職能日本語検定,JLCT外国人日本語能力検定,PJC Bridge,JPT日本語能力試験,JPT Elementary試験,EJU日本留学試験
A29: ■日本語学習情報Japanese Language Proficiency
A30: 早稲田京福語学院との面接時期 | J30: 年 | L30: 月 | N30: 日 | O30: 事務局記入欄
A31: Date of the interview test with Waseda Keifuku Language Academy | J31: (Y) | L31: (M) | N31: (D)
A32: 日本語資格 | I32: 受験日時 | N32: 年 | P32: 月 | R32: 日
I33: Date of exam | N33: (Y) | P33: (M) | R33: (D)
A34: Japanese certification | H34: 級 | L34: 点
H35: Level | L35: Score
A36: 日本語学習時間合計 | H36: 時間 | I36: ※ | J36: as of | L36: 月 | N36: 日 | O36: 時点
A37: Total hours of Japanese Language study | H37: Hours | L37: （M） | N37: （D）
A39: ■経費支弁者情報 SPONSOR INFORMATION
A40: 氏名 Name | K40: 申請者との関係 Relationship to applicant
A41: 現住所 Current Home Address
...

Sheet ---履歴書---
B1: 早稲田京福語学院 履歴書
B2: PERSONAL RECORD
B3: 国籍 Nationality | I3: 英字名 Name | R3: 漢字名
B4: =IF(調査書!E7="","",調査書!E7) | I4: =調査書!E8 -> 0 | R4: =IF(調査書!N8="","N/A",調査書!N8) -> N/A
B5: 性別 Sex | E5: 生年月日 Date of Birth | K5: 出生地 Place of birth | T5: 配偶者の有無 Married status | Z5: 無 Single
B6: =IF(調査書!N11="","",調査書!N11) | E6: =DATE(調査書!E11,調査書!H11,調査書!J11) -> #NUM! | K6: =調査書!L7 -> 0 | Z6: 有 Married
B7: 現住所 Address
B8: =IF(調査書!E9="","",調査書!E9)
B9: =IF(調査書!E10="","","(戸籍)") | D9: =調査書!E10 -> 0
B11: ■家族 Family
B12: 続柄 Relationship | E12: 氏名 Name | I12: 国籍 Nationality | K12: 性別 Sex | L12: 生年月日 Date of birth | N12: 職業 Occupation | Q12: 住所 Address | Z12: 父 Father | AA12: 男 Male
Z13: 母 Mother | AA13: 女 Female
Z14: 兄弟・姉妹 Brother/Sister
Z15: 祖父・祖母 grand parent
Z16: 叔父・叔母 uncle/aunt
Z17: 従兄弟・従姉妹 cousin
Z18: 配偶者 spouse
Z19: 息子・娘 Son/Daughter
B20: ■学歴：小学校から順に記載 Education Record : From Elementary School to Last school
B21: 学校名 Name of school | H21: 所在地 Address of school | O21: 入学年月 Date of admission | U21: 卒業年月 Date of graduation
O22: (Y) | S22: (M) | U22: (Y) | Y22: (M)
R23: / | T23: ～ | X23: /
R25: / | T25: ～ | X25: /
R27: / | T27: ～ | X27: /
R29: / | T29: ～ | X29: /
R31: / | T31: ～ | X31: /
R33: / | T33: ～ | X33: /
B35: ■日本語学習歴 Japanese education history
B36: 学校名 Name of school | H36: 所在地 Address of school | O36: 入学年月 Date of admission | U36: 卒業年月 Date of graduation
O37: (Y) | S37: (M) | U37: (Y) | Y37: (M)
R38: / | T38: ～ | X38: /
R40: / | T40: ～ | X40: /
R42: / | T42: ～ | X42: /
B44: ■職歴・兵役等：就職年月の順に記載 Previous Occupations
B45: 勤務先 Name of company | H45: 所在地 Address of campany | O45: 入社年月 Date of employment | U45: 退職年月 Date of resignation
O46: (Y) | S46: (M) | U46: (Y) | Y46: (M)
R47: / | T47: ～ | X47: /
R49: / | T49: ～ | X49: /
R51: / | T51: ～ | X51: /
B53: ■日本出入国歴 Previous stays in Japan | K53: 入国回数 Number of times | N53: 回 times
...

Sheet 就学理由書
A1: 就学理由書 Your purpose of Studying Japanese
A25: ■日本語学習修了後の日本での予定 Plan after graduation
B26: ✓ | C26: 進学希望 | I26: 大学院（Master degree) | M26: 大学(University)
B27: enters a higher education in Japan
I28: 短期大学(2years College) | M28: 専門学校(Vocational School)
A30: 進学希望先の学校 Name of school you hope to enter
A31: 希望学科名 Faculty and course
C33: 日本での就職 Work in Japan
C35: 帰国 Return to home country
C37: その他 Others
C39: 上記の内容に相違ありません。 I hereby declare the above statement is correct
A41: 作成日 Date | G41: 年 | J41: 月 | L41: 日 | N41: 署名 Signature
D42: （Y) | H42: （M) | K42: （D）

Sheet 就学理由書 (日本語翻訳)
A1: 就学理由書 （日本語訳） Your purpose of Studying Japanese

Sheet -経費支弁書-
E1: 早稲田京福語学院 経費支弁書
E2: Financial Support Statement
A3: 日本国法務大臣 殿
A5: 国籍 Nationality | C5: =IF(調査書!E7="","",調査書!E7)
A7: 氏名 Name | C7: =IF(調査書!E8="","",調査書!E8) | J7: ( | K7: =IF(調査書!N8="","",調査書!N8) | O7: )
K8: 性別 Sex
A9: 生年月日 Date of Birth | C9: =IF(調査書!E11="","",調査書!E11) | E9: 年 (Y) | F9: =IF(調査書!H11="","",調査書!H11) | G9: 月 (M) | H9: =IF(調査書!J11="","",調査書!J11) | I9: 日 (D) | M9: =IF(調査書!N11="","",調査書!N11)
A11: 私は、この度、上記の者が日本国に 在留中・入国した場合 の経費支弁者になりましたので、下記のとおり経費支弁の引受け経緯を説明するとともに、経費支弁について誓約します。
A13: 記
A14: 1.経費支弁の引受経緯
A15: （申請者の経費の支弁を引受けた経緯及び申請者との関係について具体的に記載して下さい）
A23: 2.経費支弁内容
A24: 私、 | B24: =IF(調査書!D40="","",調査書!D40) | I24: は、上記の者の日本国滞在について、下記のとおり
A25: 経費支弁することを誓約します。
A26: また、上記の者が在留期間変更許可申請を行う際には、送金証明書又は本人名義の貯金通帳（送金事実、経費支弁事実が記載されたもの）の写し等で、生活費等の支弁事実を明らかにする書類を提出します。
A28: 記
A29: （１） | B29: 学費 Tuition fee | G29: 年間 Annual | J29: 928000 | N29: 円
A30: （２） | B30: 生活費 Living Expense | G30: 月額 Monthly | N30: 円
A31: （３） | B31: 支弁方法（送金・振込等支弁方法を具体的にお書きください。）
B32: Means of financial support
G38: 作成日 | K38: 年 | M38: 月 | O38: 日
G39: Date | I39: （Y) | L39: （M) | N39: （D)
A41: 経費支弁者(Sponsor's information)
A42: 住所 | C42: =IF(調査書!E42="","","(戸籍)") | E42: =調査書!E42 -> 0 | J42: 電話番号 | L42: =IF(調査書!D43="","",調査書!D43)
A43: Address | C43: =IF(調査書!E41="","",調査書!E41) | J43: Phone No. | L43: =IF(調査書!E43="","",調査書!E43)
A45: 署名 | J45: 学生との関係 | M45: =IF(調査書!P40="","",調査書!P40)
A46: Signature | J46: Relationship

Sheet 経費支弁書 (日本語訳)
E1: 早稲田京福語学院 経費支弁書（日本語訳）
E2: Financial Support Statement
A3: 1.経費支弁の引受経緯
A4: （申請者の経費の支弁を引受けた経緯及び申請者との関係について具体的に記載して下さい）
A16: 2.経費支弁内容
A17: （３） | B17: 支弁方法（送金・振込等支弁方法を具体的にお書きください。）
B18: Means of financial support

Sheet 同意書
A1: 早稻田京福语学院事前通知·同意书
A3: 各位申请者
A4: 早稻田京福语学院在公开下述信息的同时，需要得到大家的理解之后接受申请。因此，请确认以下内容得到
A5: 理解与同意后请在右边☐打✔，签名后提交资料。
M6: ☑
A8: １．本校在入学时将下述金额作为学费等费用收取。
A9: ・选考费：20,000日元 ・入学金：60,000円 ・学费（1年）：720,000円 ・各种经费（1年）：148,000円
A10: ※海外汇款学费时，银行手续费将需要另加5000日元。
A12: ２．按照“留学生的接受方针”，一旦缴费的学费，原则上不可退还。
A13: 但是，仅限以下情况给与退款。
A14: ・在驻外大使馆申请签证但未得到交付的情况： | F14: ⇒除去选考费和还款手续费，退还全部缴纳金。
A17: ３．在日本的外国留学生每周打工时间被限制为28小时。时薪是1200日元左右，仅靠打工是不能负担全部
A18: 学费和生活费的。
A20: ４．日语学校非常重视出席率。不来学校而光打工的话，签证很有可能不能得到延长导致不得不回国。
A23: ５．本校全面禁烟，不接受吸烟的学生。假设在指定吸烟区以外的地方吸烟被发现的情况下会被罚款。
A24: 另外，在日本严禁在指定的吸烟区以外吸烟。
A25: 因为也有因为路上吸烟等被处罚，和附近居民的引发纠纷的情况发生，所以请彻底贯彻并遵守吸烟规则。
A28: ６．校舍内的一部分厕所是男女共用的。男女专用厕所因为拥挤会造成不便。请事先谅解。
A31: ７．来日本之前请接受结核等健康检查。如果发现有疾病或需要高额医疗费用的病，很有可能会被强制退学至回国。
A34: ８．违反法律、违反学规、品行不良、出席不良等也会被处以退学、开除学籍的处分。受到这些处分的学生
A35: 必须立即回国。
A37: ９．另外，详细情况将公示在募集要项上，请确认。
A39: 我理解并同意上述内容。 | F39: 签名：
G44: 年 | I44: 月 | K44: 日
F45: Year | H45: Month | J45: Day

Sheet 喫煙に関する同意書
A1: 喫煙に関する事前誓約書
A3: 早稲田京福語学院
A4: 中福 甫易 理事長殿
A6: 本人、 | F6: 承诺，在入学之前，要理解并严格遵守以下内容。 | M6: ☑
A8: １．在日本吸烟区很少，吸烟是非常困难的。在指定的吸烟区以外严禁吸烟。
A9: （不仅在室内，在路上也禁止吸烟）。
A11: ２．即使是指定的吸烟区，由于人数限制而不能进入的情况也很多，在课间休息时间等短时间内去吸烟是
A12: 不可能的。
A15: ３．法律禁止在路上吸烟。同时，即使偷偷吸烟，根据监控和来自近邻居民的通报也可被查处。
A18: ４． 停车场等进入他人用地内吸烟的情况下，会以非法侵入罪被警察逮捕。
A20: ５． 如果发现在指定吸烟处以外的地方吸烟的话罚款1万日元，并且在校内吸烟并扔掉烟头的话
A21: 罚款5万日元。
A23: ６．根据宿舍和公寓的不同，室内和阳台上禁止吸烟的情况很多
A24: 实际上也有因吸烟而被赶出宿舍，被要求违约金的学生。
A25: 另外，为了消除吸烟引起的烧焦痕迹和臭味等，也会被要求支付巨额的修理费。
A27: ７． 如上所述，日本对于吸烟者来说是一个很难生活的社会，所以我校强烈建议在来日本之前戒烟。
... A31: 另外，对于违反日本吸烟规则时的任何处罚，我承诺不进行申诉。
F33: 签字：
G38: 年 | I38: 月 | K38: 日
F39: Year | H39: Month | J39: Day
